BEGIN:VCALENDAR
VERSION:2.0
PRODID:-//Iuris Legal //NONSGML Events //EN
CALSCALE:GREGORIAN
X-WR-CALNAME:Iuris Legal
BEGIN:VEVENT
CREATED:20231222T131629Z
UID:451661
DTEND;VALUE=DATE:20241128T174500
DTSTART;VALUE=DATE:20241128T131500
DTSTAMP:20260421T121053Z
LOCATION:Aristo Meeting Center  - Teleportboulevard 100 \, 1043 EJ Amsterdam
SUMMARY:Verdiepingscursus Tactisch Procederen | Dag 1
ORGANIZER: Iuris Legal
URL;VALUE=URI:https://www.iurislegal.nl/cursussen/verdiepingscursus-tactisch-procederen-28november2024/
TRANSP:OPAQUE
BEGIN:VALARM
ACTION:DISPLAY
TRIGGER;VALUE=DATE-TIME:
DESCRIPTION:Reminder for Verdiepingscursus Tactisch Procederen
END:VALARM
END:VEVENT
END:VCALENDAR
